BEGIN:VCALENDAR
VERSION:2.0
PRODID:-//FDP Ortsverband Rellingen - ECPv6.2.4//NONSGML v1.0//EN
CALSCALE:GREGORIAN
METHOD:PUBLISH
X-WR-CALNAME:FDP Ortsverband Rellingen
X-ORIGINAL-URL:https://www.fdp-rellingen.de
X-WR-CALDESC:Veranstaltungen für FDP Ortsverband Rellingen
REFRESH-INTERVAL;VALUE=DURATION:PT1H
X-Robots-Tag:noindex
X-PUBLISHED-TTL:PT1H
BEGIN:VTIMEZONE
TZID:Europe/Berlin
BEGIN:DAYLIGHT
TZOFFSETFROM:+0100
TZOFFSETTO:+0200
TZNAME:CEST
DTSTART:20250330T010000
END:DAYLIGHT
BEGIN:STANDARD
TZOFFSETFROM:+0200
TZOFFSETTO:+0100
TZNAME:CET
DTSTART:20251026T010000
END:STANDARD
BEGIN:DAYLIGHT
TZOFFSETFROM:+0100
TZOFFSETTO:+0200
TZNAME:CEST
DTSTART:20260329T010000
END:DAYLIGHT
BEGIN:STANDARD
TZOFFSETFROM:+0200
TZOFFSETTO:+0100
TZNAME:CET
DTSTART:20261025T010000
END:STANDARD
END:VTIMEZONE
BEGIN:VEVENT
DTSTART;TZID=Europe/Berlin:20260413T190000
DTEND;TZID=Europe/Berlin:20260413T203000
DTSTAMP:20260424T174454
CREATED:20251217T164312Z
LAST-MODIFIED:20260308T165634Z
UID:1691-1776106800-1776112200@www.fdp-rellingen.de
SUMMARY:Fraktionssitzung / Rathaus
DESCRIPTION:
URL:https://www.fdp-rellingen.de/event/fraktionssitzung-rathaus-15/
LOCATION:Rathaus Rellingen\, Hauptstraße 60\, Rellingen\, 25462\, Deutschland
CATEGORIES:Fraktion,Ortsverband
END:VEVENT
BEGIN:VEVENT
DTSTART;TZID=Europe/Berlin:20260330T190000
DTEND;TZID=Europe/Berlin:20260330T203000
DTSTAMP:20260424T174454
CREATED:20251217T164251Z
LAST-MODIFIED:20260308T165608Z
UID:1689-1774897200-1774902600@www.fdp-rellingen.de
SUMMARY:Fraktionssitzung / Rathaus
DESCRIPTION:
URL:https://www.fdp-rellingen.de/event/fraktionssitzung-rathaus-14/
LOCATION:Rathaus Rellingen\, Hauptstraße 60\, Rellingen\, 25462\, Deutschland
CATEGORIES:Fraktion,Ortsverband
END:VEVENT
BEGIN:VEVENT
DTSTART;TZID=Europe/Berlin:20260316T190000
DTEND;TZID=Europe/Berlin:20260316T203000
DTSTAMP:20260424T174454
CREATED:20251217T164231Z
LAST-MODIFIED:20260308T165442Z
UID:1687-1773687600-1773693000@www.fdp-rellingen.de
SUMMARY:Fraktionssitzung / Rathaus
DESCRIPTION:
URL:https://www.fdp-rellingen.de/event/fraktionssitzung-rathaus-13/
LOCATION:Rathaus Rellingen\, Hauptstraße 60\, Rellingen\, 25462\, Deutschland
CATEGORIES:Fraktion,Ortsverband
END:VEVENT
BEGIN:VEVENT
DTSTART;TZID=Europe/Berlin:20260315T110000
DTEND;TZID=Europe/Berlin:20260315T130000
DTSTAMP:20260424T174454
CREATED:20260217T163101Z
LAST-MODIFIED:20260217T163101Z
UID:1738-1773572400-1773579600@www.fdp-rellingen.de
SUMMARY:Liberaler Frühschoppen
DESCRIPTION:Wir laden Euch herzlich zum Liberalen Frühschoppen ein!\nWann: 15.03.26 – 11:00 Uhr\nWo: Turnerheim Rellingen\, Hohle Strasse\, 25462 Rellingen
URL:https://www.fdp-rellingen.de/event/liberaler-fruehschoppen/
END:VEVENT
BEGIN:VEVENT
DTSTART;TZID=Europe/Berlin:20260223T190000
DTEND;TZID=Europe/Berlin:20260223T203000
DTSTAMP:20260424T174454
CREATED:20251217T164139Z
LAST-MODIFIED:20251217T164139Z
UID:1683-1771873200-1771878600@www.fdp-rellingen.de
SUMMARY:Fraktionssitzung / Rathaus
DESCRIPTION:
URL:https://www.fdp-rellingen.de/event/fraktionssitzung-rathaus-11/
LOCATION:Rathaus Rellingen\, Hauptstraße 60\, Rellingen\, 25462\, Deutschland
CATEGORIES:Fraktion,Ortsverband
END:VEVENT
BEGIN:VEVENT
DTSTART;TZID=Europe/Berlin:20260209T190000
DTEND;TZID=Europe/Berlin:20260209T203000
DTSTAMP:20260424T174454
CREATED:20251217T164117Z
LAST-MODIFIED:20251217T164117Z
UID:1681-1770663600-1770669000@www.fdp-rellingen.de
SUMMARY:Fraktionssitzung / Rathaus
DESCRIPTION:
URL:https://www.fdp-rellingen.de/event/fraktionssitzung-rathaus-10/
LOCATION:Rathaus Rellingen\, Hauptstraße 60\, Rellingen\, 25462\, Deutschland
CATEGORIES:Fraktion,Ortsverband
END:VEVENT
BEGIN:VEVENT
DTSTART;TZID=Europe/Berlin:20260126T190000
DTEND;TZID=Europe/Berlin:20260126T203000
DTSTAMP:20260424T174454
CREATED:20251217T164058Z
LAST-MODIFIED:20251217T164058Z
UID:1679-1769454000-1769459400@www.fdp-rellingen.de
SUMMARY:Fraktionssitzung / Rathaus
DESCRIPTION:
URL:https://www.fdp-rellingen.de/event/fraktionssitzung-rathaus-9/
LOCATION:Rathaus Rellingen\, Hauptstraße 60\, Rellingen\, 25462\, Deutschland
CATEGORIES:Fraktion,Ortsverband
END:VEVENT
BEGIN:VEVENT
DTSTART;TZID=Europe/Berlin:20260125T110000
DTEND;TZID=Europe/Berlin:20260125T130000
DTSTAMP:20260424T174454
CREATED:20251228T111930Z
LAST-MODIFIED:20251228T111930Z
UID:1725-1769338800-1769346000@www.fdp-rellingen.de
SUMMARY:Liberaler Frühschoppen - Christopher Vogt MdL
DESCRIPTION:Wir laden ein zum Liberalen Frühschoppen\, am Sonntag\, den 25. Januar 2026\, ab 11:00 Uhr\nOrt: RTV-Turnerheim\, Hohle Str. 13\, 25462 Rellingen
URL:https://www.fdp-rellingen.de/event/liberaler-fruehschoppen-christopher-vogt-mdl/
LOCATION:RTV-Turnerheim\, Hohle Str.13\, Rellingen\, 25462\, Deutschland
END:VEVENT
BEGIN:VEVENT
DTSTART;TZID=Europe/Berlin:20260112T190000
DTEND;TZID=Europe/Berlin:20260112T203000
DTSTAMP:20260424T174454
CREATED:20251217T163847Z
LAST-MODIFIED:20251217T163847Z
UID:1677-1768244400-1768249800@www.fdp-rellingen.de
SUMMARY:Fraktionssitzung / Rathaus
DESCRIPTION:
URL:https://www.fdp-rellingen.de/event/fraktionssitzung-rathaus-8/
LOCATION:Rathaus Rellingen\, Hauptstraße 60\, Rellingen\, 25462\, Deutschland
CATEGORIES:Fraktion,Ortsverband
END:VEVENT
BEGIN:VEVENT
DTSTART;TZID=Europe/Berlin:20251215T190000
DTEND;TZID=Europe/Berlin:20251215T203000
DTSTAMP:20260424T174454
CREATED:20250824T113658Z
LAST-MODIFIED:20250824T113658Z
UID:1665-1765825200-1765830600@www.fdp-rellingen.de
SUMMARY:Fraktionssitzung / Rathaus
DESCRIPTION:
URL:https://www.fdp-rellingen.de/event/fraktionssitzung-rathaus-7/
LOCATION:Rathaus Rellingen\, Hauptstraße 60\, Rellingen\, 25462\, Deutschland
CATEGORIES:Fraktion,Ortsverband
END:VEVENT
BEGIN:VEVENT
DTSTART;TZID=Europe/Berlin:20251208T190000
DTEND;TZID=Europe/Berlin:20251208T203000
DTSTAMP:20260424T174454
CREATED:20250824T113630Z
LAST-MODIFIED:20250824T113630Z
UID:1663-1765220400-1765225800@www.fdp-rellingen.de
SUMMARY:Fraktionssitzung / Rathaus
DESCRIPTION:
URL:https://www.fdp-rellingen.de/event/fraktionssitzung-rathaus-6/
LOCATION:Rathaus Rellingen\, Hauptstraße 60\, Rellingen\, 25462\, Deutschland
CATEGORIES:Fraktion,Ortsverband
END:VEVENT
BEGIN:VEVENT
DTSTART;TZID=Europe/Berlin:20251117T190000
DTEND;TZID=Europe/Berlin:20251117T203000
DTSTAMP:20260424T174454
CREATED:20250824T113601Z
LAST-MODIFIED:20250824T113601Z
UID:1661-1763406000-1763411400@www.fdp-rellingen.de
SUMMARY:Fraktionssitzung / Rathaus
DESCRIPTION:
URL:https://www.fdp-rellingen.de/event/fraktionssitzung-rathaus-5/
LOCATION:Rathaus Rellingen\, Hauptstraße 60\, Rellingen\, 25462\, Deutschland
CATEGORIES:Fraktion,Ortsverband
END:VEVENT
BEGIN:VEVENT
DTSTART;TZID=Europe/Berlin:20251103T190000
DTEND;TZID=Europe/Berlin:20251103T203000
DTSTAMP:20260424T174454
CREATED:20250824T113540Z
LAST-MODIFIED:20250824T113540Z
UID:1659-1762196400-1762201800@www.fdp-rellingen.de
SUMMARY:Fraktionssitzung / Rathaus
DESCRIPTION:
URL:https://www.fdp-rellingen.de/event/fraktionssitzung-rathaus-4/
LOCATION:Rathaus Rellingen\, Hauptstraße 60\, Rellingen\, 25462\, Deutschland
CATEGORIES:Fraktion,Ortsverband
END:VEVENT
BEGIN:VEVENT
DTSTART;TZID=Europe/Berlin:20251020T190000
DTEND;TZID=Europe/Berlin:20251020T203000
DTSTAMP:20260424T174454
CREATED:20250824T113514Z
LAST-MODIFIED:20250824T113514Z
UID:1657-1760986800-1760992200@www.fdp-rellingen.de
SUMMARY:Fraktionssitzung / Rathaus
DESCRIPTION:
URL:https://www.fdp-rellingen.de/event/fraktionssitzung-rathaus-3/
LOCATION:Rathaus Rellingen\, Hauptstraße 60\, Rellingen\, 25462\, Deutschland
CATEGORIES:Fraktion,Ortsverband
END:VEVENT
BEGIN:VEVENT
DTSTART;TZID=Europe/Berlin:20251006T190000
DTEND;TZID=Europe/Berlin:20251006T203000
DTSTAMP:20260424T174454
CREATED:20250824T113426Z
LAST-MODIFIED:20250824T113426Z
UID:1655-1759777200-1759782600@www.fdp-rellingen.de
SUMMARY:Fraktionssitzung / Rathaus
DESCRIPTION:
URL:https://www.fdp-rellingen.de/event/fraktionssitzung-rathaus-2/
LOCATION:Rathaus Rellingen\, Hauptstraße 60\, Rellingen\, 25462\, Deutschland
CATEGORIES:Fraktion,Ortsverband
END:VEVENT
BEGIN:VEVENT
DTSTART;TZID=Europe/Berlin:20250915T190000
DTEND;TZID=Europe/Berlin:20250915T203000
DTSTAMP:20260424T174454
CREATED:20250824T113359Z
LAST-MODIFIED:20250824T113359Z
UID:1653-1757962800-1757968200@www.fdp-rellingen.de
SUMMARY:Fraktionssitzung / Rathaus
DESCRIPTION:
URL:https://www.fdp-rellingen.de/event/fraktionssitzung-rathaus/
LOCATION:Rathaus Rellingen\, Hauptstraße 60\, Rellingen\, 25462\, Deutschland
CATEGORIES:Fraktion,Ortsverband
END:VEVENT
BEGIN:VEVENT
DTSTART;TZID=Europe/Berlin:20250901T190000
DTEND;TZID=Europe/Berlin:20250901T203000
DTSTAMP:20260424T174454
CREATED:20250824T113244Z
LAST-MODIFIED:20250824T113311Z
UID:1650-1756753200-1756758600@www.fdp-rellingen.de
SUMMARY:Fraktionssitzung / Rathaus
DESCRIPTION:
URL:https://www.fdp-rellingen.de/event/fraktionssitzung-81/
LOCATION:Rathaus Rellingen\, Hauptstraße 60\, Rellingen\, 25462\, Deutschland
CATEGORIES:Fraktion,Ortsverband
END:VEVENT
BEGIN:VEVENT
DTSTART;TZID=Europe/Berlin:20250714T190000
DTEND;TZID=Europe/Berlin:20250714T203000
DTSTAMP:20260424T174454
CREATED:20250402T131924Z
LAST-MODIFIED:20250402T131924Z
UID:1566-1752519600-1752525000@www.fdp-rellingen.de
SUMMARY:Fraktionssitzung
DESCRIPTION:
URL:https://www.fdp-rellingen.de/event/fraktionssitzung-80/
LOCATION:Rathaus Rellingen\, Hauptstraße 60\, Rellingen\, 25462\, Deutschland
CATEGORIES:Fraktion,Ortsverband
END:VEVENT
BEGIN:VEVENT
DTSTART;TZID=Europe/Berlin:20250630T190000
DTEND;TZID=Europe/Berlin:20250630T203000
DTSTAMP:20260424T174454
CREATED:20250402T131856Z
LAST-MODIFIED:20250402T131856Z
UID:1564-1751310000-1751315400@www.fdp-rellingen.de
SUMMARY:Fraktionssitzung
DESCRIPTION:
URL:https://www.fdp-rellingen.de/event/fraktionssitzung-79/
LOCATION:Rathaus Rellingen\, Hauptstraße 60\, Rellingen\, 25462\, Deutschland
CATEGORIES:Fraktion,Ortsverband
END:VEVENT
BEGIN:VEVENT
DTSTART;TZID=Europe/Berlin:20250616T190000
DTEND;TZID=Europe/Berlin:20250616T203000
DTSTAMP:20260424T174454
CREATED:20250402T131821Z
LAST-MODIFIED:20250402T131821Z
UID:1562-1750100400-1750105800@www.fdp-rellingen.de
SUMMARY:Fraktionssitzung
DESCRIPTION:
URL:https://www.fdp-rellingen.de/event/fraktionssitzung-78/
LOCATION:Rathaus Rellingen\, Hauptstraße 60\, Rellingen\, 25462\, Deutschland
CATEGORIES:Fraktion,Ortsverband
END:VEVENT
BEGIN:VEVENT
DTSTART;TZID=Europe/Berlin:20250526T190000
DTEND;TZID=Europe/Berlin:20250526T203000
DTSTAMP:20260424T174454
CREATED:20250402T131716Z
LAST-MODIFIED:20250402T131716Z
UID:1560-1748286000-1748291400@www.fdp-rellingen.de
SUMMARY:Fraktionssitzung
DESCRIPTION:
URL:https://www.fdp-rellingen.de/event/fraktionssitzung-77/
LOCATION:Rathaus Rellingen\, Hauptstraße 60\, Rellingen\, 25462\, Deutschland
CATEGORIES:Fraktion,Ortsverband
END:VEVENT
BEGIN:VEVENT
DTSTART;TZID=Europe/Berlin:20250512T190000
DTEND;TZID=Europe/Berlin:20250512T203000
DTSTAMP:20260424T174454
CREATED:20250402T131559Z
LAST-MODIFIED:20250402T131559Z
UID:1558-1747076400-1747081800@www.fdp-rellingen.de
SUMMARY:Fraktionssitzung
DESCRIPTION:
URL:https://www.fdp-rellingen.de/event/fraktionssitzung-76/
LOCATION:Rathaus Rellingen\, Hauptstraße 60\, Rellingen\, 25462\, Deutschland
CATEGORIES:Fraktion,Ortsverband
END:VEVENT
BEGIN:VEVENT
DTSTART;TZID=Europe/Berlin:20250428T190000
DTEND;TZID=Europe/Berlin:20250428T203000
DTSTAMP:20260424T174454
CREATED:20250402T131509Z
LAST-MODIFIED:20250402T131509Z
UID:1556-1745866800-1745872200@www.fdp-rellingen.de
SUMMARY:Fraktionssitzung
DESCRIPTION:
URL:https://www.fdp-rellingen.de/event/fraktionssitzung-75/
LOCATION:Rathaus Rellingen\, Hauptstraße 60\, Rellingen\, 25462\, Deutschland
CATEGORIES:Fraktion,Ortsverband
END:VEVENT
BEGIN:VEVENT
DTSTART;TZID=Europe/Berlin:20250407T190000
DTEND;TZID=Europe/Berlin:20250407T203000
DTSTAMP:20260424T174454
CREATED:20250402T131339Z
LAST-MODIFIED:20250402T131339Z
UID:1554-1744052400-1744057800@www.fdp-rellingen.de
SUMMARY:Fraktionssitzung
DESCRIPTION:
URL:https://www.fdp-rellingen.de/event/fraktionssitzung-74/
LOCATION:Rathaus Rellingen\, Hauptstraße 60\, Rellingen\, 25462\, Deutschland
CATEGORIES:Fraktion,Ortsverband
END:VEVENT
BEGIN:VEVENT
DTSTART;TZID=Europe/Berlin:20250324T190000
DTEND;TZID=Europe/Berlin:20250324T203000
DTSTAMP:20260424T174454
CREATED:20240606T061028Z
LAST-MODIFIED:20240606T061028Z
UID:1434-1742842800-1742848200@www.fdp-rellingen.de
SUMMARY:Fraktionssitzung
DESCRIPTION:
URL:https://www.fdp-rellingen.de/event/fraktionssitzung-73/
LOCATION:Rathaus Rellingen\, Hauptstraße 60\, Rellingen\, 25462\, Deutschland
CATEGORIES:Fraktion,Ortsverband
END:VEVENT
BEGIN:VEVENT
DTSTART;TZID=Europe/Berlin:20250310T190000
DTEND;TZID=Europe/Berlin:20250310T203000
DTSTAMP:20260424T174454
CREATED:20240606T060959Z
LAST-MODIFIED:20240606T060959Z
UID:1432-1741633200-1741638600@www.fdp-rellingen.de
SUMMARY:Fraktionssitzung
DESCRIPTION:
URL:https://www.fdp-rellingen.de/event/fraktionssitzung-72/
LOCATION:Rathaus Rellingen\, Hauptstraße 60\, Rellingen\, 25462\, Deutschland
CATEGORIES:Fraktion,Ortsverband
END:VEVENT
BEGIN:VEVENT
DTSTART;TZID=Europe/Berlin:20250224T190000
DTEND;TZID=Europe/Berlin:20250224T203000
DTSTAMP:20260424T174454
CREATED:20240606T060940Z
LAST-MODIFIED:20240606T060940Z
UID:1430-1740423600-1740429000@www.fdp-rellingen.de
SUMMARY:Fraktionssitzung
DESCRIPTION:
URL:https://www.fdp-rellingen.de/event/fraktionssitzung-71/
LOCATION:Rathaus Rellingen\, Hauptstraße 60\, Rellingen\, 25462\, Deutschland
CATEGORIES:Fraktion,Ortsverband
END:VEVENT
BEGIN:VEVENT
DTSTART;TZID=Europe/Berlin:20250210T190000
DTEND;TZID=Europe/Berlin:20250210T203000
DTSTAMP:20260424T174454
CREATED:20240606T060921Z
LAST-MODIFIED:20240606T060921Z
UID:1428-1739214000-1739219400@www.fdp-rellingen.de
SUMMARY:Fraktionssitzung
DESCRIPTION:
URL:https://www.fdp-rellingen.de/event/fraktionssitzung-70/
LOCATION:Rathaus Rellingen\, Hauptstraße 60\, Rellingen\, 25462\, Deutschland
CATEGORIES:Fraktion,Ortsverband
END:VEVENT
BEGIN:VEVENT
DTSTART;TZID=Europe/Berlin:20250127T190000
DTEND;TZID=Europe/Berlin:20250127T203000
DTSTAMP:20260424T174454
CREATED:20240606T060855Z
LAST-MODIFIED:20240606T060855Z
UID:1426-1738004400-1738009800@www.fdp-rellingen.de
SUMMARY:Fraktionssitzung
DESCRIPTION:
URL:https://www.fdp-rellingen.de/event/fraktionssitzung-69/
LOCATION:Rathaus Rellingen\, Hauptstraße 60\, Rellingen\, 25462\, Deutschland
CATEGORIES:Fraktion,Ortsverband
END:VEVENT
BEGIN:VEVENT
DTSTART;TZID=Europe/Berlin:20250113T190000
DTEND;TZID=Europe/Berlin:20250113T203000
DTSTAMP:20260424T174454
CREATED:20240606T060827Z
LAST-MODIFIED:20240606T060827Z
UID:1424-1736794800-1736800200@www.fdp-rellingen.de
SUMMARY:Fraktionssitzung
DESCRIPTION:
URL:https://www.fdp-rellingen.de/event/fraktionssitzung-68/
LOCATION:Rathaus Rellingen\, Hauptstraße 60\, Rellingen\, 25462\, Deutschland
CATEGORIES:Fraktion,Ortsverband
END:VEVENT
END:VCALENDAR